BEGIN:VCALENDAR
VERSION:2.0
PRODID:-//ML Sports Club - ECPv6.0.12//NONSGML v1.0//EN
CALSCALE:GREGORIAN
METHOD:PUBLISH
X-ORIGINAL-URL:https://mlsportsclub.se
X-WR-CALDESC:Events for ML Sports Club
REFRESH-INTERVAL;VALUE=DURATION:PT1H
X-Robots-Tag:noindex
X-PUBLISHED-TTL:PT1H
BEGIN:VTIMEZONE
TZID:Europe/Stockholm
BEGIN:DAYLIGHT
TZOFFSETFROM:+0100
TZOFFSETTO:+0200
TZNAME:CEST
DTSTART:20240331T010000
END:DAYLIGHT
BEGIN:STANDARD
TZOFFSETFROM:+0200
TZOFFSETTO:+0100
TZNAME:CET
DTSTART:20241027T010000
END:STANDARD
END:VTIMEZONE
BEGIN:VEVENT
DTSTART;TZID=Europe/Stockholm:20240514T181500
DTEND;TZID=Europe/Stockholm:20240514T200000
DTSTAMP:20260420T101334
CREATED:20240513T051156Z
LAST-MODIFIED:20240513T051846Z
UID:1646-1715710500-1715716800@mlsportsclub.se
SUMMARY:Tisdagsträning med ML Sports Club
DESCRIPTION:Nu rullar vi igång Racertisdag! \nHäng med på en trevlig cykeltur i Falun. \nVi samlas vid 18:15 vid butiken på Slaggatan\, varmt välkomna!
URL:https://mlsportsclub.se/event/tisdagstraning-med-ml-sports-club/
LOCATION:Cykel & Längdspecialisten\, Slaggatan 11\, Falun\, Dalarna\, 79171\, Sverige
CATEGORIES:Tisdagsträning
ATTACH;FMTTYPE=image/png:https://mlsportsclub.se/wp-content/uploads/2023/05/ML-Sports-Club-7.png
END:VEVENT
END:VCALENDAR