BEGIN:VCALENDAR
VERSION:2.0
PRODID:-//ML Sports Club - ECPv6.0.12//NONSGML v1.0//EN
CALSCALE:GREGORIAN
METHOD:PUBLISH
X-ORIGINAL-URL:https://mlsportsclub.se
X-WR-CALDESC:Events for ML Sports Club
REFRESH-INTERVAL;VALUE=DURATION:PT1H
X-Robots-Tag:noindex
X-PUBLISHED-TTL:PT1H
BEGIN:VTIMEZONE
TZID:Europe/Stockholm
BEGIN:DAYLIGHT
TZOFFSETFROM:+0100
TZOFFSETTO:+0200
TZNAME:CEST
DTSTART:20250330T010000
END:DAYLIGHT
BEGIN:STANDARD
TZOFFSETFROM:+0200
TZOFFSETTO:+0100
TZNAME:CET
DTSTART:20251026T010000
END:STANDARD
END:VTIMEZONE
BEGIN:VEVENT
DTSTART;TZID=Europe/Stockholm:20250115T181500
DTEND;TZID=Europe/Stockholm:20250115T194500
DTSTAMP:20260422T143821
CREATED:20250107T181338Z
LAST-MODIFIED:20250111T133603Z
UID:1711-1736964900-1736970300@mlsportsclub.se
SUMMARY:Onsdagsträning - Längdskidor
DESCRIPTION:Onsdag 15/1 är det dags igen! \nVi skidar ut från Cykel & Längdspecialistens butik på Lugnet 18:15. Pannlampa rekommenderas. Valfri teknik. \nVälkomna 😀
URL:https://mlsportsclub.se/event/onsdagstraning-langdskidor/
LOCATION:Cykel & Längdspecialisten Lugnet\, Lugnetvägen 16\, Falun\, 79131
CATEGORIES:Onsdagsträning
ATTACH;FMTTYPE=image/jpeg:https://mlsportsclub.se/wp-content/uploads/2024/12/nordic_race_classic_39_jpg-150dpi-1536x1025-1.jpg
END:VEVENT
END:VCALENDAR